BEGIN:VCALENDAR
BEGIN:VEVENT
SUMMARY:Quintron & Miss Pussycat (30 year anniversary)\, 1-800-HOT-DUCK\, 
 Marcia Bassett [nycnoise]
DTSTART:20250914T230000Z
DTEND:20250915T000000Z
UID:f9b4975e-2e09-4b6b-8e81-b91edf58d01b
CREATED:20260420T163210Z
DESCRIPTION:
LOCATION:sultan room (234 starr st.\, brooklyn)
END:VEVENT
END:VCALENDAR
