BEGIN:VCALENDAR
BEGIN:VEVENT
SUMMARY:Papi Saicos & Los Saicos Experience\, Hypercynical Peacemaker\, Bi
 lly Plastered [nycnoise]
DTSTART:20250913T230000Z
DTEND:20250914T000000Z
UID:26cbc5a8-6662-4931-ae1f-ceed945b4d35
CREATED:20260420T163234Z
DESCRIPTION:
LOCATION:alphaville (140 wilson ave\, brooklyn)
END:VEVENT
END:VCALENDAR
