BEGIN:VCALENDAR
BEGIN:VEVENT
SUMMARY:Luminescence Projections & Ambient: Night Shining\, Endless Season
  (Ayumi Ishito\, Daniel Carter\, Ian Couch film)\, Atsushi Kobayashi\, Jus
 tine Gasquet & Couch\, PLAN 23 & CJ (visuals) [nycnoise]
DTSTART:20250915T000000Z
DTEND:20250915T010000Z
UID:86742c43-881d-4c8a-bf61-a7ede3034dfd
CREATED:20260420T163207Z
DESCRIPTION:
LOCATION:synesthesia
END:VEVENT
END:VCALENDAR
