BEGIN:VCALENDAR
BEGIN:VEVENT
SUMMARY:Tropa Magica\, Ratas En Zelo [nycnoise]
DTSTART:20250904T230000Z
DTEND:20250905T000000Z
UID:f66b6d7a-bb12-4887-8ddb-30f4a8bf3149
CREATED:20260420T163130Z
DESCRIPTION:
LOCATION:tv eye (1647 Weirfield St\, Ridgewood\, NY 11385)
END:VEVENT
END:VCALENDAR
