BEGIN:VCALENDAR
BEGIN:VEVENT
SUMMARY:Uptown Out: Matt Lambiase / Will Glass / Mary Cherney / Claire de 
 Brunner / Stephanie Griffin / Hilliard Greene / Carol Liebowitz [nycnoise]
DTSTART:20250911T230000Z
DTEND:20250912T000000Z
UID:9f4b0131-b043-4fd4-ad5a-3633b1f824c2
CREATED:20260420T163340Z
DESCRIPTION:
LOCATION:recirculation (876 Riverside Dr\, New York\, NY 10032)
END:VEVENT
END:VCALENDAR
