BEGIN:VCALENDAR
BEGIN:VEVENT
SUMMARY:Kath Bloom\, Superfan\, Shannen Moser\, Sofia Wolfson [nycnoise]
DTSTART:20250930T000000Z
DTEND:20250930T010000Z
UID:c9bb2a81-7eb0-4f3d-b6ec-7262763db47f
CREATED:20260420T163231Z
DESCRIPTION:7pm doors
LOCATION:broadway (1272 broadway\, brooklyn)
END:VEVENT
END:VCALENDAR
