BEGIN:VCALENDAR
BEGIN:VEVENT
SUMMARY:Heavy Heavy Low Low\, Totally Unicorn\, For Your Health\, THIN\, T
 old Not to Worry [nycnoise]
DTSTART:20251115T000000Z
DTEND:20251115T010000Z
UID:12a9974a-f9c2-4447-9982-4374746cf895
CREATED:20260425T203803Z
DESCRIPTION:
LOCATION:broadway (1272 broadway\, brooklyn)
END:VEVENT
END:VCALENDAR
