BEGIN:VCALENDAR
BEGIN:VEVENT
SUMMARY:Heaven Through Violence\, Split Silk\, Gre/ay\, Receive [nycnoise]
DTSTART:20251020T230000Z
DTEND:20251021T000000Z
UID:713b24a7-1bab-4ba0-9c24-375d11a9d330
CREATED:20260420T145140Z
DESCRIPTION:
LOCATION:gold sounds (44 wilson ave\, brooklyn)
END:VEVENT
END:VCALENDAR
