BEGIN:VCALENDAR
BEGIN:VEVENT
SUMMARY:Essex Flowers presents Flowers Fest [nycnoise]
DTSTART:20250906T220000Z
DTEND:20250906T230000Z
UID:ed60ac65-6dda-49a3-98e3-271dfe92ce98
CREATED:20260420T163503Z
DESCRIPTION:
LOCATION:essex flowers gallery (19 Monroe St\, New York\, NY 10002)
END:VEVENT
END:VCALENDAR
