BEGIN:VCALENDAR
BEGIN:VEVENT
SUMMARY:Essex Flowers presents Flowers Fest [nycnoise]
DTSTART:20250912T220000Z
DTEND:20250912T230000Z
UID:cad11657-fa96-4aef-b1de-676c51f1249c
CREATED:20260420T163250Z
DESCRIPTION:
LOCATION:essex flowers gallery (19 Monroe St\, New York\, NY 10002)
END:VEVENT
END:VCALENDAR
