BEGIN:VCALENDAR
BEGIN:VEVENT
SUMMARY:Essex Flowers presents Flowers Fest [nycnoise]
DTSTART:20250913T220000Z
DTEND:20250913T230000Z
UID:54486cdb-08d5-4039-8e17-efa1258886e4
CREATED:20260420T163129Z
DESCRIPTION:
LOCATION:essex flowers gallery (19 Monroe St\, New York\, NY 10002)
END:VEVENT
END:VCALENDAR
