BEGIN:VCALENDAR
BEGIN:VEVENT
SUMMARY:Essex Flowers presents Flowers Fest [nycnoise]
DTSTART:20250914T220000Z
DTEND:20250914T230000Z
UID:7d4d3ee6-b203-4c4f-8c8d-58ccece5b1c4
CREATED:20260420T163504Z
DESCRIPTION:
LOCATION:essex flowers gallery (19 Monroe St\, New York\, NY 10002)
END:VEVENT
END:VCALENDAR
