BEGIN:VCALENDAR
BEGIN:VEVENT
SUMMARY:Nabihah Iqbal [nycnoise]
DTSTART:20250908T233000Z
DTEND:20250909T003000Z
UID:b742d91d-14e9-466c-a335-9791a8ca353d
CREATED:20260420T163319Z
DESCRIPTION:
LOCATION:night club 101 (101 avenue a\, manhattan)
END:VEVENT
END:VCALENDAR
