BEGIN:VCALENDAR
BEGIN:VEVENT
SUMMARY:Sorry Records: Kiernan Laveaux\, Porkchop aka SSPS\, Nick Boyd [ny
 cnoise]
DTSTART:20250908T020000Z
DTEND:20250908T030000Z
UID:46bf657e-2a2f-41ec-b226-d1869d3e3cde
CREATED:20260420T163340Z
DESCRIPTION:
LOCATION:bossa nova civic club (1271 myrtle ave\, brooklyn)
END:VEVENT
END:VCALENDAR
