BEGIN:VCALENDAR
BEGIN:VEVENT
SUMMARY:People's Pavilion [nycnoise]
DTSTART:20250907T150000Z
DTEND:20250907T160000Z
UID:e0cfa326-90d1-4297-92ef-664a1c165de7
CREATED:20260420T163505Z
DESCRIPTION:click thru for flyer\, LOTS &amp\; great\, idk timeline (i'm p
 osting this late so you prolly missed lele dai ~3pm SORRY)
LOCATION:columbus park
END:VEVENT
END:VCALENDAR
