BEGIN:VCALENDAR
BEGIN:VEVENT
SUMMARY:LAYLIT 7TH ANNIVERSARY: Zeemuffin\, SAMIA\, Fatin\, ALI IRL\, Aria
 nna Danae\, Armana Khan\, DYNOMAN\, AGAMI\, Nadim Maghzal\, Saphe\, MNSA [
 nycnoise]
DTSTART:20250920T200000Z
DTEND:20250920T210000Z
UID:6e5f91c6-f939-4753-9a1d-9a1c921cfb3c
CREATED:20260420T163504Z
DESCRIPTION:
LOCATION:elsewhere (599 johnson ave\, brooklyn)
END:VEVENT
END:VCALENDAR
