BEGIN:VCALENDAR
BEGIN:VEVENT
SUMMARY:Strange Animations from Gaza: Aesop's Sound Fables\, Indigo Wind Q
 uintet [nycnoise]
DTSTART:20250924T233000Z
DTEND:20250925T003000Z
UID:19c76b11-6ed0-4d85-8f6e-05e9b2c156ba
CREATED:20260420T163318Z
DESCRIPTION:hard 7:45pm start\, 🇵🇸 original live soundtracks for&nbs
 p\;"screening short animated films by the students of Hansen Koraz\, an an
 imation teacher in Gaza ... All proceeds to a GoFundMe supporting her &amp
 \; her students."
LOCATION:mayday (176 St Nicholas Ave\, Brooklyn\, NY 11237)
END:VEVENT
END:VCALENDAR
