BEGIN:VCALENDAR
BEGIN:VEVENT
SUMMARY:Swain\, Beton Tåge (CD Release)\, Mouths Agape\, Blackstone\, Ech
 o Chamber [nycnoise]
DTSTART:20250927T190000Z
DTEND:20250927T200000Z
UID:acc3a640-2357-4476-9f0d-4f63de79fcd0
CREATED:20260420T163208Z
DESCRIPTION:
LOCATION:fringe records (656 Woodward Ave\, Ridgewood\, NY 11385)
END:VEVENT
END:VCALENDAR
