BEGIN:VCALENDAR
BEGIN:VEVENT
SUMMARY:Careful In The Sun & Friends (Maya Keren\, Anna Abondolo\, Emmanue
 l Michael\, Eliza Salem ft. Claire Dickson & Maria Grand) [nycnoise]
DTSTART:20250917T233000Z
DTEND:20250918T003000Z
UID:1b24d5b1-11be-46d6-8bf3-c8b298fc15ab
CREATED:20260420T163250Z
DESCRIPTION:7:30pm tix &amp\; 9pm tix
LOCATION:close up jazz (154 Orchard St\, New York\, NY 10002\, United Stat
 es)
END:VEVENT
END:VCALENDAR
