BEGIN:VCALENDAR
BEGIN:VEVENT
SUMMARY:Lex Korten (Album Release\; w/ David Leon\, Claire Dickson\, Tal Y
 ahalom\, Stephen Boegehold)\, Night #1/2 [nycnoise]
DTSTART:20250918T233000Z
DTEND:20250919T003000Z
UID:5ea63654-c75c-46cb-826f-562e60dbac31
CREATED:20260420T163319Z
DESCRIPTION:7:30pm tix &amp\; 9pm tix
LOCATION:close up jazz (154 Orchard St\, New York\, NY 10002\, United Stat
 es)
END:VEVENT
END:VCALENDAR
