BEGIN:VCALENDAR
BEGIN:VEVENT
SUMMARY:Lex Korten (Album Release\; w/ David Leon\, Claire Dickson\, Tal Y
 ahalom\, Stephen Boegehold)\, Night #2/2 [nycnoise]
DTSTART:20250920T000000Z
DTEND:20250920T010000Z
UID:76453d86-13f1-4057-84c3-6a8ce80dfe01
CREATED:20260420T163207Z
DESCRIPTION:8pm tix &amp\; 10pm tix
LOCATION:close up jazz (154 Orchard St\, New York\, NY 10002\, United Stat
 es)
END:VEVENT
END:VCALENDAR
