BEGIN:VCALENDAR
BEGIN:VEVENT
SUMMARY:Brainrot Radio Second Annual Fundraiser: Powerwasher\, Lying Seaso
 n\, Isabella Ashton\, Pretty Name\, DJ Bonekeeper [nycnoise]
DTSTART:20250920T230000Z
DTEND:20250921T000000Z
UID:a6d58c2b-e6d1-48f0-9ce3-3f7d00d74b56
CREATED:20260420T163339Z
DESCRIPTION:link's to insta\, flyer
LOCATION:rubulad
END:VEVENT
END:VCALENDAR
