BEGIN:VCALENDAR
BEGIN:VEVENT
SUMMARY:HARDCORSET: EMMA KING\, Via App\, DIME [nycnoise]
DTSTART:20250912T020000Z
DTEND:20250912T030000Z
UID:90629a49-36cd-4497-b88c-369a328afa68
CREATED:20260420T163249Z
DESCRIPTION:
LOCATION:bossa nova civic club (1271 myrtle ave\, brooklyn)
END:VEVENT
END:VCALENDAR
