BEGIN:VCALENDAR
BEGIN:VEVENT
SUMMARY:Alex Koi x Kirin McElwain\, Bow & Arrow (Michael Beharie & Lea Ber
 tucci) [nycnoise]
DTSTART:20250929T000000Z
DTEND:20250929T010000Z
UID:952b48a7-57c0-4550-b1f8-f50231c5ff8c
CREATED:20260420T163320Z
DESCRIPTION:7:30pm doors
LOCATION:threes brewing (333 douglass st.\, brooklyn)
END:VEVENT
END:VCALENDAR
