BEGIN:VCALENDAR
BEGIN:VEVENT
SUMMARY:Judette Elliston\, Ella Mar\, Syl DuBenion\, Yael S. Copeland [nyc
 noise]
DTSTART:20250917T000000Z
DTEND:20250917T010000Z
UID:4b6b0a0a-8c4a-447b-bd24-132893e1ca13
CREATED:20260420T163341Z
DESCRIPTION:7:30pm doors
LOCATION:bar freda (801 seneca ave\, ridgewood)
END:VEVENT
END:VCALENDAR
