BEGIN:VCALENDAR
BEGIN:VEVENT
SUMMARY:Wilder Maker LP Listening Party: Gabriel Birnbaum\, DJ Jesse Rifki
 n [nycnoise]
DTSTART:20250915T000000Z
DTEND:20250915T010000Z
UID:9c4c42e7-0dfa-4c02-a5a2-b9e6c83d3138
CREATED:20260420T163319Z
DESCRIPTION:link to flyer
LOCATION:mr. melo (61 Withers St\, Brooklyn\, NY 11211)
END:VEVENT
END:VCALENDAR
