BEGIN:VCALENDAR
BEGIN:VEVENT
SUMMARY:Transparency Series #2: patrick brennan's transparency kestra [nyc
 noise]
DTSTART:20250930T220000Z
DTEND:20250930T230000Z
UID:6632703b-df2e-4097-a552-3a91e1bd212b
CREATED:20260420T163342Z
DESCRIPTION:6pm open rehearsal\, 7:30pm performance\; pb w/ Frank London\,
  Aaron Pond\, Westbrook Johnson\, Haruna Fukazawa\, Patrick Holmes\, Nick 
 Gianni Claire deBrunner\, Josh Sinton\, Shu Odumara\, Evan Palmer\, Colin 
 Hinton\, James Paul Nadien\, Andrew Drury
LOCATION:starr bar (214 starr st.\, brooklyn)
END:VEVENT
END:VCALENDAR
