BEGIN:VCALENDAR
BEGIN:VEVENT
SUMMARY:Depanneur Grand Opening: Karp\, XBUCKET\, Jonah x Casta [nycnoise]
DTSTART:20250918T000000Z
DTEND:20250918T010000Z
UID:71a138d3-f2a8-4afa-a71d-a18aa4f466ad
CREATED:20260420T163130Z
DESCRIPTION:7:30pm doors
LOCATION:cutelab
END:VEVENT
END:VCALENDAR
