BEGIN:VCALENDAR
BEGIN:VEVENT
SUMMARY:Itzá García + Tobias Fandel\, Concepción Huerta\, Amanda Gutié
 rrez\, Jenn Grossman [nycnoise]
DTSTART:20250920T000000Z
DTEND:20250920T010000Z
UID:29a10854-08fd-4e7d-99d0-37628b861641
CREATED:20260420T163252Z
DESCRIPTION:7:30pm doors
LOCATION:cutelab
END:VEVENT
END:VCALENDAR
