BEGIN:VCALENDAR
BEGIN:VEVENT
SUMMARY:Collective Reading: Mónica de la Torre with Marié Nobematsu-Le G
 assic\, Monica Regan\,  David Richards\,  Genevieve Sachs\, Chris Stie
 gler [nycnoise]
DTSTART:20250913T180000Z
DTEND:20250913T190000Z
UID:ec65f43c-daa6-4188-8c6b-97fed46edd8c
CREATED:20260420T163343Z
DESCRIPTION:"wide range of media"
LOCATION:microscope gallery (525 w. 29th st.\, 2nd fl.\, manhattan)
END:VEVENT
END:VCALENDAR
