BEGIN:VCALENDAR
BEGIN:VEVENT
SUMMARY:rally in the jungle: 3mouth\, nguyendowsXP\, amita\, Pierce Jackso
 n [nycnoise]
DTSTART:20251004T030000Z
DTEND:20251004T040000Z
UID:b27e6575-2335-44b4-977e-16accec914a9
CREATED:20260420T145335Z
DESCRIPTION:
LOCATION:trans-pecos (9-15 wyckoff ave\, ridgewood)
END:VEVENT
END:VCALENDAR
