BEGIN:VCALENDAR
BEGIN:VEVENT
SUMMARY:Soft As Snow\, Sunk Heaven\, Stemlines [nycnoise]
DTSTART:20250922T000000Z
DTEND:20250922T010000Z
UID:7b61c15d-ce6e-40ce-89e4-86deab28b68d
CREATED:20260420T163135Z
DESCRIPTION:7pm doors
LOCATION:isola bk (361 Metropolitan Ave\, Brooklyn\, NY 11211)
END:VEVENT
END:VCALENDAR
