BEGIN:VCALENDAR
BEGIN:VEVENT
SUMMARY:New Dracula Theater presents: Mascherina de Notte\, Monkhammer\, M
 ick Barr\, Octonomy [nycnoise]
DTSTART:20250924T233000Z
DTEND:20250925T003000Z
UID:ef252098-5f69-4eea-9b93-999936986003
CREATED:20260420T163251Z
DESCRIPTION:
LOCATION:union pool (484 union ave\, brooklyn)
END:VEVENT
END:VCALENDAR
