BEGIN:VCALENDAR
BEGIN:VEVENT
SUMMARY:Gelsey Bell\, Joanna Mattrey / Qasim Naqvi / Devin Grey\, Cleek Sc
 hrey & Henry Fraser [nycnoise]
DTSTART:20250930T230000Z
DTEND:20251001T000000Z
UID:ea7c85e3-4cbc-4e49-982e-965040cbeb5e
CREATED:20260420T163235Z
DESCRIPTION:weird to have no link day-of\, but i just confirmed with samso
 n\, it's real!
LOCATION:brothers wash & dry laundromat (5420 nurge ave\, queens)
END:VEVENT
END:VCALENDAR
