BEGIN:VCALENDAR
BEGIN:VEVENT
SUMMARY:Wormhole: Angalo\, Selendis Sebastian Alexander Johnson\, Alana Am
 ore Colvin & Melissa Almaguer [nycnoise]
DTSTART:20251005T230000Z
DTEND:20251006T000000Z
UID:bddd14dd-b8ce-456f-8112-839aed7b967c
CREATED:20260420T145258Z
DESCRIPTION:
LOCATION:brothers wash & dry laundromat (5420 nurge ave\, queens)
END:VEVENT
END:VCALENDAR
