BEGIN:VCALENDAR
BEGIN:VEVENT
SUMMARY:TBA [nycnoise]
DTSTART:20251102T000000Z
DTEND:20251102T010000Z
UID:21e8b9bc-a6ae-43c7-8924-82b5949405e9
CREATED:20260425T203828Z
DESCRIPTION:lineup asap (submit info)
LOCATION:brothers wash & dry laundromat (5420 nurge ave\, queens)
END:VEVENT
END:VCALENDAR
