BEGIN:VCALENDAR
BEGIN:VEVENT
SUMMARY:Wormhole: Nick Saia\, Ronan McKinnon's Casual Fancy Band\, Christi
 an Cail's Child of Rage [nycnoise]
DTSTART:20251103T000000Z
DTEND:20251103T010000Z
UID:19917f9e-c790-4004-975b-80dababbb545
CREATED:20260425T203630Z
DESCRIPTION:
LOCATION:brothers wash & dry laundromat (5420 nurge ave\, queens)
END:VEVENT
END:VCALENDAR
