BEGIN:VCALENDAR
BEGIN:VEVENT
SUMMARY:TROPICAL VORTEX presents: A.B.E.L.A. (The Asociación de Baterista
 s Electrónicos de Latinoamerica) [nycnoise]
DTSTART:20250923T010000Z
DTEND:20250923T020000Z
UID:5d831d65-f812-42c0-9314-9288e060c138
CREATED:20260420T163504Z
DESCRIPTION:+ DJs Sonido Chichadelico\, Adrian is Hungry\, &amp\; more
LOCATION:barbès (376 9th st.\, brooklyn)
END:VEVENT
END:VCALENDAR
