BEGIN:VCALENDAR
BEGIN:VEVENT
SUMMARY:Lester St. Louis & KG will Present Sounds [nycnoise]
DTSTART:20250918T230000Z
DTEND:20250919T000000Z
UID:f80c5d8a-4acc-4398-a673-40f7e1869b88
CREATED:20260420T163208Z
DESCRIPTION:🌀 notaflof work trade
LOCATION:light & sound design
END:VEVENT
END:VCALENDAR
