BEGIN:VCALENDAR
BEGIN:VEVENT
SUMMARY:Moment Machine (Jason Lindner & Currency Audio)\, EUCADEMIX (Yuka 
 Honda)\, Doula (DJ) [nycnoise]
DTSTART:20250920T230000Z
DTEND:20250921T000000Z
UID:474a971b-3101-4284-9f65-efba51b10bfa
CREATED:20260420T163129Z
DESCRIPTION:🌀 notaflof work trade
LOCATION:light & sound design
END:VEVENT
END:VCALENDAR
