BEGIN:VCALENDAR
BEGIN:VEVENT
SUMMARY:Lea Bertucci (Record Release)\, Ka Baird\, Victoria Keddie\, DJ Sh
 awn O'Sullivan [nycnoise]
DTSTART:20251022T230000Z
DTEND:20251023T000000Z
UID:db076001-11dd-4118-a08b-ee0c96291182
CREATED:20260420T145204Z
DESCRIPTION:🌀 notaflof work trade
LOCATION:light & sound design
END:VEVENT
END:VCALENDAR
