BEGIN:VCALENDAR
BEGIN:VEVENT
SUMMARY:DoYeon Kim\, Jerry Lim / Chuck Bettis / Barry Weisblat [nycnoise]
DTSTART:20250920T000000Z
DTEND:20250920T010000Z
UID:3fcb1465-43ce-4251-978b-960beb2faf3e
CREATED:20260420T163503Z
DESCRIPTION:
LOCATION:lava club
END:VEVENT
END:VCALENDAR
