BEGIN:VCALENDAR
BEGIN:VEVENT
SUMMARY:Second Sundays: Eric Copeland [nycnoise]
DTSTART:20250914T200000Z
DTEND:20250914T210000Z
UID:e332186e-b2a8-448e-8e18-e99069d76181
CREATED:20260420T163251Z
DESCRIPTION:12pm-6pm programming\, 4pm copeland in main hall
LOCATION:pioneer works (full space) (159 pioneer st.\, brooklyn)
END:VEVENT
END:VCALENDAR
