BEGIN:VCALENDAR
BEGIN:VEVENT
SUMMARY:Jeff Mills: 'Tomorrow Comes the Harvest' (ft. Jean Phi Dary\, Prab
 hu Edouard) [nycnoise]
DTSTART:20251009T000000Z
DTEND:20251009T010000Z
UID:c00f5a57-7b9d-4a9a-9fd8-4ed7a67627ef
CREATED:20260420T145156Z
DESCRIPTION:7pm doors
LOCATION:pioneer works (159 pioneer st.\, brooklyn)
END:VEVENT
END:VCALENDAR
