BEGIN:VCALENDAR
BEGIN:VEVENT
SUMMARY:YOB\, Windhand [nycnoise]
DTSTART:20251015T233000Z
DTEND:20251016T003000Z
UID:2328c3ff-7859-4ee3-9840-de23bf248689
CREATED:20260420T145356Z
DESCRIPTION:7pm doors
LOCATION:pioneer works (159 pioneer st.\, brooklyn)
END:VEVENT
END:VCALENDAR
