BEGIN:VCALENDAR
BEGIN:VEVENT
SUMMARY:$87+ [nycnoise]
DTSTART:20251018T230000Z
DTEND:20251019T000000Z
UID:4b98c17c-9081-433f-a86a-134debc70bbb
CREATED:20260420T145349Z
DESCRIPTION:6pm doors\; Ragas Live Festival\; click thru for full lineup
LOCATION:pioneer works (159 pioneer st.\, brooklyn)
END:VEVENT
END:VCALENDAR
