BEGIN:VCALENDAR
BEGIN:VEVENT
SUMMARY:Durations: Andy Stott\, Carrier [nycnoise]
DTSTART:20251107T010000Z
DTEND:20251107T020000Z
UID:19c0279a-2f5b-45a9-9e9a-2388390ca8c5
CREATED:20260425T203932Z
DESCRIPTION:7pm doors\; $160 for 6-day pass
LOCATION:pioneer works (159 pioneer st.\, brooklyn)
END:VEVENT
END:VCALENDAR
