BEGIN:VCALENDAR
BEGIN:VEVENT
SUMMARY:Second Sundays: DJ Spooky / Aram Sinnreich / Jesse Gilbert (live v
 isuals) & more [nycnoise]
DTSTART:20251109T214500Z
DTEND:20251109T224500Z
UID:3d3d1c2d-d8a8-4ee6-8cc1-2028c847f405
CREATED:20260425T203659Z
DESCRIPTION:12pm-6pm programming\, 4:45pm dj spooky\; 4pm ft. a&nbsp\;glee
 -style "queer a cappella band" so profoundly cheesy that maybe having them
  at pioneer works is itself ~avant-garde~
LOCATION:pioneer works (full space) (159 pioneer st.\, brooklyn)
END:VEVENT
END:VCALENDAR
