BEGIN:VCALENDAR
BEGIN:VEVENT
SUMMARY:Weird Fucks with Music: Olivia O.\, Scarlet Rae\, Situationist\, P
 erfect 100\, & more [nycnoise]
DTSTART:20250914T230000Z
DTEND:20250915T000000Z
UID:552fb479-3ac7-4a0b-b776-65112457b235
CREATED:20260420T163249Z
DESCRIPTION:
LOCATION:night club 101 (101 avenue a\, manhattan)
END:VEVENT
END:VCALENDAR
