BEGIN:VCALENDAR
BEGIN:VEVENT
SUMMARY:Sonya Belaya: 'Yazik' (ft. Nandi Rose\, Zubin Hensler\, Zosha Warp
 eha\, Stephen Boegehold) [nycnoise]
DTSTART:20251001T000000Z
DTEND:20251001T010000Z
UID:d307e5d1-b703-4d6b-9f11-aaf0982e21e1
CREATED:20260420T163339Z
DESCRIPTION:$30/7pm doors\, livestream
LOCATION:roulette (509 atlantic ave\, brooklyn)
END:VEVENT
END:VCALENDAR
